Package: artMS Version: 1.27.0 Command: rm -rf artMS.buildbin-libdir && mkdir artMS.buildbin-libdir && /Users/biocbuild/BBS/utils/build-universal.sh artMS_1.27.0.tar.gz /Library/Frameworks/R.framework/Resources/bin/R artMS.buildbin-libdir StartedAt: 2025-10-17 22:59:15 -0400 (Fri, 17 Oct 2025) EndedAt: 2025-10-17 22:59:28 -0400 (Fri, 17 Oct 2025) EllapsedTime: 13.3 seconds RetCode: 0 Status: OK PackageFile: artMS_1.27.0.tgz PackageFileSize: 3.331 MiB