Package: aroma.light Version: 3.39.0 Command: /home/biocbuild/R/R/bin/R CMD INSTALL aroma.light StartedAt: 2025-10-16 21:10:52 -0000 (Thu, 16 Oct 2025) EndedAt: 2025-10-16 21:11:33 -0000 (Thu, 16 Oct 2025) EllapsedTime: 41.5 seconds RetCode: 0 Status: OK