Package: aroma.light Version: 3.39.0 Command: /home/biocbuild/R/R/bin/R CMD check --install=check:aroma.light.install-out.txt --library=/home/biocbuild/R/R/site-library --no-vignettes --timings aroma.light_3.39.0.tar.gz StartedAt: 2025-10-21 04:31:02 -0000 (Tue, 21 Oct 2025) EndedAt: 2025-10-21 04:32:40 -0000 (Tue, 21 Oct 2025) EllapsedTime: 98.1 seconds RetCode: 0 Status: OK CheckDir: aroma.light.Rcheck Warnings: 0