Package: aroma.light Version: 3.40.0 Command: /Library/Frameworks/R.framework/Resources/bin/R CMD build --keep-empty-dirs --no-resave-data aroma.light StartedAt: 2025-10-31 16:09:11 -0400 (Fri, 31 Oct 2025) EndedAt: 2025-10-31 16:09:13 -0400 (Fri, 31 Oct 2025) EllapsedTime: 2.4 seconds RetCode: 0 Status: OK PackageFile: aroma.light_3.40.0.tar.gz PackageFileSize: 379.3 KiB