Package: aroma.light Version: 3.39.0 Command: /Library/Frameworks/R.framework/Resources/bin/R CMD INSTALL aroma.light StartedAt: 2025-10-08 15:08:28 -0400 (Wed, 08 Oct 2025) EndedAt: 2025-10-08 15:08:35 -0400 (Wed, 08 Oct 2025) EllapsedTime: 7.3 seconds RetCode: 0 Status: OK