Package: aroma.light Version: 3.39.0 Command: rm -rf aroma.light.buildbin-libdir && mkdir aroma.light.buildbin-libdir && /Users/biocbuild/BBS/utils/build-universal.sh aroma.light_3.39.0.tar.gz /Library/Frameworks/R.framework/Resources/bin/R aroma.light.buildbin-libdir StartedAt: 2025-10-09 22:32:00 -0400 (Thu, 09 Oct 2025) EndedAt: 2025-10-09 22:32:02 -0400 (Thu, 09 Oct 2025) EllapsedTime: 2.1 seconds RetCode: 0 Status: OK PackageFile: aroma.light_3.39.0.tgz PackageFileSize: 608.6 KiB