Package: appreci8R Version: 1.27.0 Command: /home/biocbuild/R/R/bin/R CMD check --install=check:appreci8R.install-out.txt --library=/home/biocbuild/R/R/site-library --no-vignettes --timings appreci8R_1.27.0.tar.gz StartedAt: 2025-10-21 04:31:00 -0000 (Tue, 21 Oct 2025) EndedAt: 2025-10-21 04:38:35 -0000 (Tue, 21 Oct 2025) EllapsedTime: 455.4 seconds RetCode: 0 Status: OK CheckDir: appreci8R.Rcheck Warnings: 0