Package: appreci8R Version: 1.27.0 Command: F:\biocbuild\bbs-3.22-bioc\R\bin\R.exe CMD check --no-multiarch --install=check:appreci8R.install-out.txt --library=F:\biocbuild\bbs-3.22-bioc\R\library --no-vignettes --timings appreci8R_1.27.0.tar.gz StartedAt: 2025-08-15 00:32:15 -0400 (Fri, 15 Aug 2025) EndedAt: 2025-08-15 00:39:27 -0400 (Fri, 15 Aug 2025) EllapsedTime: 431.7 seconds RetCode: 0 Status: OK CheckDir: appreci8R.Rcheck Warnings: 0