Package: appreci8R Version: 1.27.0 Command: /home/biocbuild/bbs-3.22-bioc/R/bin/R CMD check --install=check:appreci8R.install-out.txt --library=/home/biocbuild/bbs-3.22-bioc/R/site-library --timings appreci8R_1.27.0.tar.gz StartedAt: 2025-10-19 21:03:52 -0400 (Sun, 19 Oct 2025) EndedAt: 2025-10-19 21:11:38 -0400 (Sun, 19 Oct 2025) EllapsedTime: 466.0 seconds RetCode: 0 Status: OK CheckDir: appreci8R.Rcheck Warnings: 0