Package: appreci8R Version: 1.27.0 Command: /home/biocbuild/bbs-3.22-bioc/R/bin/R CMD build --keep-empty-dirs --no-resave-data --md5 appreci8R StartedAt: 2025-10-19 16:14:06 -0400 (Sun, 19 Oct 2025) EndedAt: 2025-10-19 16:17:48 -0400 (Sun, 19 Oct 2025) EllapsedTime: 222.1 seconds RetCode: 0 Status: OK PackageFile: appreci8R_1.27.0.tar.gz PackageFileSize: 1014 KiB