Package: appreci8R Version: 1.27.0 Command: /Library/Frameworks/R.framework/Resources/bin/R CMD INSTALL appreci8R StartedAt: 2025-10-19 15:52:44 -0400 (Sun, 19 Oct 2025) EndedAt: 2025-10-19 15:54:24 -0400 (Sun, 19 Oct 2025) EllapsedTime: 99.6 seconds RetCode: 0 Status: OK