Package: appreci8R Version: 1.27.0 Command: /Library/Frameworks/R.framework/Resources/bin/R CMD check --install=check:appreci8R.install-out.txt --library=/Library/Frameworks/R.framework/Resources/library --no-vignettes --timings appreci8R_1.27.0.tar.gz StartedAt: 2025-10-20 20:22:41 -0400 (Mon, 20 Oct 2025) EndedAt: 2025-10-20 20:29:24 -0400 (Mon, 20 Oct 2025) EllapsedTime: 402.8 seconds RetCode: 0 Status: OK CheckDir: appreci8R.Rcheck Warnings: 0