Package: appreci8R Version: 1.27.0 Command: /Library/Frameworks/R.framework/Resources/bin/R CMD INSTALL appreci8R StartedAt: 2025-10-22 15:32:13 -0400 (Wed, 22 Oct 2025) EndedAt: 2025-10-22 15:32:47 -0400 (Wed, 22 Oct 2025) EllapsedTime: 33.8 seconds RetCode: 0 Status: OK