Package: apeglm Version: 1.31.0 Command: rm -rf apeglm.buildbin-libdir && mkdir apeglm.buildbin-libdir && F:\biocbuild\bbs-3.22-bioc\R\bin\R.exe CMD INSTALL --build --library=apeglm.buildbin-libdir apeglm_1.31.0.tar.gz StartedAt: 2025-08-15 09:44:14 -0400 (Fri, 15 Aug 2025) EndedAt: 2025-08-15 09:45:44 -0400 (Fri, 15 Aug 2025) EllapsedTime: 90.1 seconds RetCode: 0 Status: OK PackageFile: apeglm_1.31.0.zip PackageFileSize: 906.6 KiB