Package: apeglm Version: 1.31.0 Command: /Library/Frameworks/R.framework/Resources/bin/R CMD INSTALL apeglm StartedAt: 2025-10-19 15:27:06 -0400 (Sun, 19 Oct 2025) EndedAt: 2025-10-19 15:28:08 -0400 (Sun, 19 Oct 2025) EllapsedTime: 62.4 seconds RetCode: 0 Status: OK