Package: apeglm Version: 1.31.0 Command: /Library/Frameworks/R.framework/Resources/bin/R CMD check --install=check:apeglm.install-out.txt --library=/Library/Frameworks/R.framework/Resources/library --no-vignettes --timings apeglm_1.31.0.tar.gz StartedAt: 2025-10-17 20:14:40 -0400 (Fri, 17 Oct 2025) EndedAt: 2025-10-17 20:18:03 -0400 (Fri, 17 Oct 2025) EllapsedTime: 203.0 seconds RetCode: 0 Status: OK CheckDir: apeglm.Rcheck Warnings: 0