Package: apeglm Version: 1.31.0 Command: /Library/Frameworks/R.framework/Resources/bin/R CMD build --keep-empty-dirs --no-resave-data apeglm StartedAt: 2025-10-19 16:03:22 -0400 (Sun, 19 Oct 2025) EndedAt: 2025-10-19 16:05:15 -0400 (Sun, 19 Oct 2025) EllapsedTime: 113.3 seconds RetCode: 0 Status: OK PackageFile: apeglm_1.31.0.tar.gz PackageFileSize: 1.265 MiB