Package: apeglm Version: 1.31.0 Command: /Library/Frameworks/R.framework/Resources/bin/R CMD INSTALL apeglm StartedAt: 2025-10-19 15:15:53 -0400 (Sun, 19 Oct 2025) EndedAt: 2025-10-19 15:16:10 -0400 (Sun, 19 Oct 2025) EllapsedTime: 17.1 seconds RetCode: 0 Status: OK