Package: antiProfiles Version: 1.49.0 Command: /home/biocbuild/R/R/bin/R CMD INSTALL antiProfiles StartedAt: 2025-10-20 20:11:37 -0000 (Mon, 20 Oct 2025) EndedAt: 2025-10-20 20:12:13 -0000 (Mon, 20 Oct 2025) EllapsedTime: 36.9 seconds RetCode: 0 Status: OK