Package: antiProfiles Version: 1.49.0 Command: F:\biocbuild\bbs-3.22-bioc\R\bin\R.exe CMD check --no-multiarch --install=check:antiProfiles.install-out.txt --library=F:\biocbuild\bbs-3.22-bioc\R\library --no-vignettes --timings antiProfiles_1.49.0.tar.gz StartedAt: 2025-08-15 00:30:36 -0400 (Fri, 15 Aug 2025) EndedAt: 2025-08-15 00:31:10 -0400 (Fri, 15 Aug 2025) EllapsedTime: 33.8 seconds RetCode: 0 Status: OK CheckDir: antiProfiles.Rcheck Warnings: 0