Package: antiProfiles Version: 1.49.0 Command: rm -rf antiProfiles.buildbin-libdir && mkdir antiProfiles.buildbin-libdir && F:\biocbuild\bbs-3.22-bioc\R\bin\R.exe CMD INSTALL --build --library=antiProfiles.buildbin-libdir antiProfiles_1.49.0.tar.gz StartedAt: 2025-08-15 09:43:44 -0400 (Fri, 15 Aug 2025) EndedAt: 2025-08-15 09:44:05 -0400 (Fri, 15 Aug 2025) EllapsedTime: 20.4 seconds RetCode: 0 Status: OK PackageFile: antiProfiles_1.49.0.zip PackageFileSize: 273.1 KiB