Package: antiProfiles Version: 1.49.0 Command: /home/biocbuild/bbs-3.22-bioc/R/bin/R CMD INSTALL antiProfiles StartedAt: 2025-09-29 15:03:13 -0400 (Mon, 29 Sep 2025) EndedAt: 2025-09-29 15:03:27 -0400 (Mon, 29 Sep 2025) EllapsedTime: 14.2 seconds RetCode: 0 Status: OK