Package: antiProfiles Version: 1.49.0 Command: /home/biocbuild/bbs-3.22-bioc/R/bin/R CMD build --keep-empty-dirs --no-resave-data --md5 antiProfiles StartedAt: 2025-09-29 16:27:48 -0400 (Mon, 29 Sep 2025) EndedAt: 2025-09-29 16:27:56 -0400 (Mon, 29 Sep 2025) EllapsedTime: 8.0 seconds RetCode: 0 Status: OK PackageFile: antiProfiles_1.49.0.tar.gz PackageFileSize: 111.5 KiB