Package: antiProfiles Version: 1.49.0 Command: /Library/Frameworks/R.framework/Resources/bin/R CMD check --install=check:antiProfiles.install-out.txt --library=/Library/Frameworks/R.framework/Resources/library --no-vignettes --timings antiProfiles_1.49.0.tar.gz StartedAt: 2025-10-09 18:12:56 -0400 (Thu, 09 Oct 2025) EndedAt: 2025-10-09 18:13:09 -0400 (Thu, 09 Oct 2025) EllapsedTime: 12.1 seconds RetCode: 0 Status: OK CheckDir: antiProfiles.Rcheck Warnings: 0