Package: antiProfiles Version: 1.49.0 Maintainer: Hector Corrada Bravo MaintainerEmail: hcorrada at gmail.com git_url: https://git.bioconductor.org/packages/antiProfiles git_branch: devel git_last_commit: 9f93597 git_last_commit_date: 2025-04-15 10:23:45 -0400 (Tue, 15 Apr 2025)