Package: annotatr Version: 1.35.2 Command: /home/biocbuild/R/R/bin/R CMD INSTALL annotatr StartedAt: 2025-10-20 21:02:20 -0000 (Mon, 20 Oct 2025) EndedAt: 2025-10-20 21:03:13 -0000 (Mon, 20 Oct 2025) EllapsedTime: 53.6 seconds RetCode: 0 Status: OK