Package: annotatr Version: 1.35.2 Command: /home/biocbuild/R/R/bin/R CMD build --keep-empty-dirs --no-resave-data annotatr StartedAt: 2025-10-20 21:41:19 -0000 (Mon, 20 Oct 2025) EndedAt: 2025-10-20 21:44:58 -0000 (Mon, 20 Oct 2025) EllapsedTime: 219.1 seconds RetCode: 0 Status: OK PackageFile: annotatr_1.35.2.tar.gz PackageFileSize: 2.101 MiB