Package: annotatr Version: 1.35.2 Command: /Library/Frameworks/R.framework/Resources/bin/R CMD INSTALL annotatr StartedAt: 2025-10-20 15:21:53 -0400 (Mon, 20 Oct 2025) EndedAt: 2025-10-20 15:22:10 -0400 (Mon, 20 Oct 2025) EllapsedTime: 17.2 seconds RetCode: 0 Status: OK