Package: annotatr Version: 1.35.2 Command: /Library/Frameworks/R.framework/Resources/bin/R CMD check --install=check:annotatr.install-out.txt --library=/Library/Frameworks/R.framework/Resources/library --no-vignettes --timings annotatr_1.35.2.tar.gz StartedAt: 2025-10-20 18:25:39 -0400 (Mon, 20 Oct 2025) EndedAt: 2025-10-20 18:27:50 -0400 (Mon, 20 Oct 2025) EllapsedTime: 131.8 seconds RetCode: 0 Status: OK CheckDir: annotatr.Rcheck Warnings: 0