Package: annotatr Version: 1.35.2 Command: /Library/Frameworks/R.framework/Resources/bin/R CMD build --keep-empty-dirs --no-resave-data annotatr StartedAt: 2025-10-20 15:37:49 -0400 (Mon, 20 Oct 2025) EndedAt: 2025-10-20 15:39:00 -0400 (Mon, 20 Oct 2025) EllapsedTime: 70.8 seconds RetCode: 0 Status: OK PackageFile: annotatr_1.35.2.tar.gz PackageFileSize: 2.462 MiB