Package: annotatr Version: 1.35.2 Command: rm -rf annotatr.buildbin-libdir && mkdir annotatr.buildbin-libdir && /Users/biocbuild/BBS/utils/build-universal.sh annotatr_1.35.2.tar.gz /Library/Frameworks/R.framework/Resources/bin/R annotatr.buildbin-libdir StartedAt: 2025-10-20 22:51:33 -0400 (Mon, 20 Oct 2025) EndedAt: 2025-10-20 22:51:51 -0400 (Mon, 20 Oct 2025) EllapsedTime: 18.4 seconds RetCode: 0 Status: OK PackageFile: annotatr_1.35.2.tgz PackageFileSize: 2.688 MiB