Package: annotationTools Version: 1.83.0 Command: /home/biocbuild/R/R/bin/R CMD build --keep-empty-dirs --no-resave-data annotationTools StartedAt: 2025-09-29 21:56:27 -0000 (Mon, 29 Sep 2025) EndedAt: 2025-09-29 21:56:37 -0000 (Mon, 29 Sep 2025) EllapsedTime: 10.0 seconds RetCode: 0 Status: OK PackageFile: annotationTools_1.83.0.tar.gz PackageFileSize: 326.8 KiB