Package: annmap Version: 1.51.0 Command: /home/biocbuild/R/R/bin/R CMD INSTALL annmap StartedAt: 2025-10-20 20:42:52 -0000 (Mon, 20 Oct 2025) EndedAt: 2025-10-20 20:43:21 -0000 (Mon, 20 Oct 2025) EllapsedTime: 29.7 seconds RetCode: 0 Status: OK