Package: annmap Version: 1.51.0 Command: /Library/Frameworks/R.framework/Resources/bin/R CMD check --install=check:annmap.install-out.txt --library=/Library/Frameworks/R.framework/Resources/library --no-vignettes --timings annmap_1.51.0.tar.gz StartedAt: 2025-10-22 19:21:00 -0400 (Wed, 22 Oct 2025) EndedAt: 2025-10-22 19:24:00 -0400 (Wed, 22 Oct 2025) EllapsedTime: 180.2 seconds RetCode: 0 Status: WARNINGS CheckDir: annmap.Rcheck Warnings: 1