Package: annmap Version: 1.51.0 Command: /Library/Frameworks/R.framework/Resources/bin/R CMD INSTALL annmap StartedAt: 2025-10-20 15:10:58 -0400 (Mon, 20 Oct 2025) EndedAt: 2025-10-20 15:11:06 -0400 (Mon, 20 Oct 2025) EllapsedTime: 8.5 seconds RetCode: 0 Status: OK