Package: anndataR Version: 0.99.6 Command: /home/biocbuild/bbs-3.22-bioc/R/bin/R CMD check --install=check:anndataR.install-out.txt --library=/home/biocbuild/bbs-3.22-bioc/R/site-library --timings anndataR_0.99.6.tar.gz StartedAt: 2025-10-24 21:09:06 -0400 (Fri, 24 Oct 2025) EndedAt: 2025-10-24 21:22:37 -0400 (Fri, 24 Oct 2025) EllapsedTime: 811.3 seconds RetCode: 0 Status: OK CheckDir: anndataR.Rcheck Warnings: 0