Package: anndataR Version: 0.99.6 Command: /home/biocbuild/bbs-3.22-bioc/R/bin/R CMD build --keep-empty-dirs --no-resave-data --md5 anndataR StartedAt: 2025-10-24 16:21:53 -0400 (Fri, 24 Oct 2025) EndedAt: 2025-10-24 16:24:21 -0400 (Fri, 24 Oct 2025) EllapsedTime: 148.2 seconds RetCode: 0 Status: OK PackageFile: anndataR_0.99.6.tar.gz PackageFileSize: 2.101 MiB