Package: anndataR Version: 0.99.6 Command: /Library/Frameworks/R.framework/Resources/bin/R CMD check --install=check:anndataR.install-out.txt --library=/Library/Frameworks/R.framework/Resources/library --no-vignettes --timings anndataR_0.99.6.tar.gz StartedAt: 2025-10-24 19:28:47 -0400 (Fri, 24 Oct 2025) EndedAt: 2025-10-24 19:47:39 -0400 (Fri, 24 Oct 2025) EllapsedTime: 1132.0 seconds RetCode: 0 Status: OK CheckDir: anndataR.Rcheck Warnings: 0