Package: anndataR Version: 0.99.6 Command: rm -rf anndataR.buildbin-libdir && mkdir anndataR.buildbin-libdir && /Users/biocbuild/BBS/utils/build-universal.sh anndataR_0.99.6.tar.gz /Library/Frameworks/R.framework/Resources/bin/R anndataR.buildbin-libdir StartedAt: 2025-10-25 01:27:40 -0400 (Sat, 25 Oct 2025) EndedAt: 2025-10-25 01:27:57 -0400 (Sat, 25 Oct 2025) EllapsedTime: 17.4 seconds RetCode: 0 Status: OK PackageFile: anndataR_0.99.6.tgz PackageFileSize: 2.429 MiB