Package: anndataR Version: 0.99.6 Command: /Library/Frameworks/R.framework/Resources/bin/R CMD build --keep-empty-dirs --no-resave-data anndataR StartedAt: 2025-10-24 15:40:15 -0400 (Fri, 24 Oct 2025) EndedAt: 2025-10-24 15:41:12 -0400 (Fri, 24 Oct 2025) EllapsedTime: 56.7 seconds RetCode: 0 Status: OK PackageFile: anndataR_0.99.6.tar.gz PackageFileSize: 2.097 MiB