Package: anndataR Version: 0.99.6 Command: rm -rf anndataR.buildbin-libdir && mkdir anndataR.buildbin-libdir && /Users/biocbuild/BBS/utils/build-universal.sh anndataR_0.99.6.tar.gz /Library/Frameworks/R.framework/Resources/bin/R anndataR.buildbin-libdir StartedAt: 2025-10-24 22:53:58 -0400 (Fri, 24 Oct 2025) EndedAt: 2025-10-24 22:54:03 -0400 (Fri, 24 Oct 2025) EllapsedTime: 5.1 seconds RetCode: 0 Status: OK PackageFile: anndataR_0.99.6.tgz PackageFileSize: 2.431 MiB