Package: anndataR Version: 0.99.6 Maintainer: Robrecht Cannoodt MaintainerEmail: robrecht at data-intuitive.com git_url: https://git.bioconductor.org/packages/anndataR git_branch: devel git_last_commit: da283c7 git_last_commit_date: 2025-10-21 18:40:35 -0400 (Tue, 21 Oct 2025)