Package: annaffy Version: 1.81.0 Command: F:\biocbuild\bbs-3.22-bioc\R\bin\R.exe CMD check --no-multiarch --install=check:annaffy.install-out.txt --library=F:\biocbuild\bbs-3.22-bioc\R\library --no-vignettes --timings annaffy_1.81.0.tar.gz StartedAt: 2025-08-15 00:28:51 -0400 (Fri, 15 Aug 2025) EndedAt: 2025-08-15 00:31:30 -0400 (Fri, 15 Aug 2025) EllapsedTime: 158.3 seconds RetCode: 0 Status: WARNINGS CheckDir: annaffy.Rcheck Warnings: 1