Package: animalcules Version: 1.25.0 Command: /Library/Frameworks/R.framework/Resources/bin/R CMD INSTALL animalcules StartedAt: 2025-10-10 15:28:23 -0400 (Fri, 10 Oct 2025) EndedAt: 2025-10-10 15:29:09 -0400 (Fri, 10 Oct 2025) EllapsedTime: 46.1 seconds RetCode: 0 Status: OK