Package: animalcules Version: 1.25.0 Command: /Library/Frameworks/R.framework/Resources/bin/R CMD build --keep-empty-dirs --no-resave-data animalcules StartedAt: 2025-10-10 16:05:26 -0400 (Fri, 10 Oct 2025) EndedAt: 2025-10-10 16:06:50 -0400 (Fri, 10 Oct 2025) EllapsedTime: 83.9 seconds RetCode: 0 Status: OK PackageFile: animalcules_1.25.0.tar.gz PackageFileSize: 3.291 MiB