Package: animalcules Version: 1.25.0 Command: /Library/Frameworks/R.framework/Resources/bin/R CMD INSTALL animalcules StartedAt: 2025-10-16 15:26:30 -0400 (Thu, 16 Oct 2025) EndedAt: 2025-10-16 15:26:44 -0400 (Thu, 16 Oct 2025) EllapsedTime: 13.8 seconds RetCode: 0 Status: OK