Package: animalcules Version: 1.25.0 Command: rm -rf animalcules.buildbin-libdir && mkdir animalcules.buildbin-libdir && /Users/biocbuild/BBS/utils/build-universal.sh animalcules_1.25.0.tar.gz /Library/Frameworks/R.framework/Resources/bin/R animalcules.buildbin-libdir StartedAt: 2025-10-16 22:52:09 -0400 (Thu, 16 Oct 2025) EndedAt: 2025-10-16 22:52:24 -0400 (Thu, 16 Oct 2025) EllapsedTime: 15.4 seconds RetCode: 0 Status: OK PackageFile: animalcules_1.25.0.tgz PackageFileSize: 3.494 MiB