Package: animalcules Version: 1.25.0 Maintainer: Jessica McClintock MaintainerEmail: jessica.mcclintock at rutgers.edu git_url: https://git.bioconductor.org/packages/animalcules git_branch: devel git_last_commit: b955827 git_last_commit_date: 2025-06-05 16:39:52 -0400 (Thu, 05 Jun 2025)