Package: anglemania Version: 1.0.0 Command: /home/biocbuild/R/R/bin/R CMD INSTALL anglemania StartedAt: 2025-11-20 22:11:26 -0000 (Thu, 20 Nov 2025) EndedAt: 2025-11-20 22:12:11 -0000 (Thu, 20 Nov 2025) EllapsedTime: 45.0 seconds RetCode: 0 Status: OK