Package: anglemania Version: 1.0.0 Command: /Library/Frameworks/R.framework/Resources/bin/R CMD INSTALL anglemania StartedAt: 2025-11-10 15:14:03 -0500 (Mon, 10 Nov 2025) EndedAt: 2025-11-10 15:14:15 -0500 (Mon, 10 Nov 2025) EllapsedTime: 12.0 seconds RetCode: 0 Status: OK